BEGIN:VCALENDAR
VERSION:2.0
PRODID:-//Carry the Cure, Inc. - ECPv6.15.20//NONSGML v1.0//EN
CALSCALE:GREGORIAN
METHOD:PUBLISH
X-ORIGINAL-URL:https://carrythecure.org
X-WR-CALDESC:Events for Carry the Cure, Inc.
REFRESH-INTERVAL;VALUE=DURATION:PT1H
X-Robots-Tag:noindex
X-PUBLISHED-TTL:PT1H
BEGIN:VTIMEZONE
TZID:America/Anchorage
BEGIN:DAYLIGHT
TZOFFSETFROM:-0900
TZOFFSETTO:-0800
TZNAME:AKDT
DTSTART:20240310T110000
END:DAYLIGHT
BEGIN:STANDARD
TZOFFSETFROM:-0800
TZOFFSETTO:-0900
TZNAME:AKST
DTSTART:20241103T100000
END:STANDARD
BEGIN:DAYLIGHT
TZOFFSETFROM:-0900
TZOFFSETTO:-0800
TZNAME:AKDT
DTSTART:20250309T110000
END:DAYLIGHT
BEGIN:STANDARD
TZOFFSETFROM:-0800
TZOFFSETTO:-0900
TZNAME:AKST
DTSTART:20251102T100000
END:STANDARD
BEGIN:DAYLIGHT
TZOFFSETFROM:-0900
TZOFFSETTO:-0800
TZNAME:AKDT
DTSTART:20260308T110000
END:DAYLIGHT
BEGIN:STANDARD
TZOFFSETFROM:-0800
TZOFFSETTO:-0900
TZNAME:AKST
DTSTART:20261101T100000
END:STANDARD
BEGIN:DAYLIGHT
TZOFFSETFROM:-0900
TZOFFSETTO:-0800
TZNAME:AKDT
DTSTART:20270314T110000
END:DAYLIGHT
BEGIN:STANDARD
TZOFFSETFROM:-0800
TZOFFSETTO:-0900
TZNAME:AKST
DTSTART:20271107T100000
END:STANDARD
END:VTIMEZONE
BEGIN:VTIMEZONE
TZID:America/Winnipeg
BEGIN:DAYLIGHT
TZOFFSETFROM:-0600
TZOFFSETTO:-0500
TZNAME:CDT
DTSTART:20240310T080000
END:DAYLIGHT
BEGIN:STANDARD
TZOFFSETFROM:-0500
TZOFFSETTO:-0600
TZNAME:CST
DTSTART:20241103T070000
END:STANDARD
BEGIN:DAYLIGHT
TZOFFSETFROM:-0600
TZOFFSETTO:-0500
TZNAME:CDT
DTSTART:20250309T080000
END:DAYLIGHT
BEGIN:STANDARD
TZOFFSETFROM:-0500
TZOFFSETTO:-0600
TZNAME:CST
DTSTART:20251102T070000
END:STANDARD
BEGIN:DAYLIGHT
TZOFFSETFROM:-0600
TZOFFSETTO:-0500
TZNAME:CDT
DTSTART:20260308T080000
END:DAYLIGHT
BEGIN:STANDARD
TZOFFSETFROM:-0500
TZOFFSETTO:-0600
TZNAME:CST
DTSTART:20261101T070000
END:STANDARD
END:VTIMEZONE
BEGIN:VTIMEZONE
TZID:Asia/Jerusalem
BEGIN:DAYLIGHT
TZOFFSETFROM:+0200
TZOFFSETTO:+0300
TZNAME:IDT
DTSTART:20240329T000000
END:DAYLIGHT
BEGIN:STANDARD
TZOFFSETFROM:+0300
TZOFFSETTO:+0200
TZNAME:IST
DTSTART:20241026T230000
END:STANDARD
BEGIN:DAYLIGHT
TZOFFSETFROM:+0200
TZOFFSETTO:+0300
TZNAME:IDT
DTSTART:20250328T000000
END:DAYLIGHT
BEGIN:STANDARD
TZOFFSETFROM:+0300
TZOFFSETTO:+0200
TZNAME:IST
DTSTART:20251025T230000
END:STANDARD
BEGIN:DAYLIGHT
TZOFFSETFROM:+0200
TZOFFSETTO:+0300
TZNAME:IDT
DTSTART:20260327T000000
END:DAYLIGHT
BEGIN:STANDARD
TZOFFSETFROM:+0300
TZOFFSETTO:+0200
TZNAME:IST
DTSTART:20261024T230000
END:STANDARD
END:VTIMEZONE
BEGIN:VEVENT
DTSTART;TZID=America/Anchorage:20260419T080000
DTEND;TZID=America/Anchorage:20260419T100000
DTSTAMP:20260425T192719
CREATED:20260419T210947Z
LAST-MODIFIED:20260419T210947Z
UID:571-1776585600-1776592800@carrythecure.org
SUMMARY:CTC hosts VPPN at Band of Brothers
DESCRIPTION:Bill / Carry the Cure will be hosting Valley Pastors Prayer Network (VPPN) at Band of Brothers in Wasilla from 8am – 10am.  Bill will share a review of CTC’s Iditarod\, as well as lead pastors in prayer for Alaska.
URL:https://carrythecure.org/event/ctc-hosts-vppn-at-band-of-brothers/
LOCATION:Band of Brothers Wasilla\, AK\, 2050 N Merciful Cir.\, Wasilla\, AK\, 99654\, United States
ORGANIZER;CN="Carry the Cure%2C Inc.":MAILTO:cureline@carrythecure.org
END:VEVENT
BEGIN:VEVENT
DTSTART;VALUE=DATE:20260322
DTEND;VALUE=DATE:20260330
DTSTAMP:20260425T192719
CREATED:20250920T043646Z
LAST-MODIFIED:20260213T063457Z
UID:381-1774137600-1774828799@carrythecure.org
SUMMARY:Iditarod Outreach 2026
DESCRIPTION:This year’s Iditarod Villages are St Michael\, Stebbins\, Shishmaref\, Brevig Mission and Nome. More information on our Iditarod Outreach program on our Project Needs page.
URL:https://carrythecure.org/event/iditarod-outreach-2026/
ATTACH;FMTTYPE=image/jpeg:https://carrythecure.org/wp-content/uploads/3.-Iditarod-Challenge-2026-v1-2.jpg
ORGANIZER;CN="Carry the Cure%2C Inc.":MAILTO:cureline@carrythecure.org
END:VEVENT
BEGIN:VEVENT
DTSTART;TZID=America/Anchorage:20260228T170000
DTEND;TZID=America/Anchorage:20260228T210000
DTSTAMP:20260425T192719
CREATED:20260213T060715Z
LAST-MODIFIED:20260213T062437Z
UID:511-1772298000-1772312400@carrythecure.org
SUMMARY:One Big Hope Concert
DESCRIPTION:This concert event will feature The Eskimo Ninja (Nick Hanson)\, Beckah Shae and Broken Walls.  5pm – 9pm at Summit Worship Center in Wasilla\, AK.
URL:https://carrythecure.org/event/one-big-hope-concert/
LOCATION:Summit Worship Center\, 125 W Riley Ave\, Wasilla\, 99654\, United States
ATTACH;FMTTYPE=image/jpeg:https://carrythecure.org/wp-content/uploads/OBH-Rally-Flyer-2026-02-SOCIAL-2.jpg
ORGANIZER;CN="Carry the Cure%2C Inc.":MAILTO:cureline@carrythecure.org
END:VEVENT
BEGIN:VEVENT
DTSTART;VALUE=DATE:20260223
DTEND;VALUE=DATE:20260228
DTSTAMP:20260425T192719
CREATED:20251116T052059Z
LAST-MODIFIED:20260213T062850Z
UID:495-1771804800-1772236799@carrythecure.org
SUMMARY:Commit to Life Mat Su: Phase 2
DESCRIPTION:Carry the Cure will be visiting 5 schools in the Mat Su Borough to present its Committed to Life suicide prevention school assembly.  These presentations will feature the award winning Native American band\, Broken Walls.  Monday – Job Corps  Tuesday – King’s Wasilla / Mat Su Central  Wednesday- Houston Middle School  Thursday- Burchell High School  Friday – Career Tech High School
URL:https://carrythecure.org/event/commit-to-life-mat-su-phase-2/
ATTACH;FMTTYPE=image/jpeg:https://carrythecure.org/wp-content/uploads/CTCs-Commit-to-Life-Mat-Su-Schedule-3.jpg
END:VEVENT
BEGIN:VEVENT
DTSTART;VALUE=DATE:20260123
DTEND;VALUE=DATE:20260127
DTSTAMP:20260425T192719
CREATED:20251116T051817Z
LAST-MODIFIED:20251116T051817Z
UID:493-1769126400-1769471999@carrythecure.org
SUMMARY:Sacred Assembly
DESCRIPTION:Bill will be performing with Broken Walls at this event scheduled in Winnipeg.  More info to come.
URL:https://carrythecure.org/event/sacred-assembly/
END:VEVENT
BEGIN:VEVENT
DTSTART;TZID=America/Anchorage:20260110T180000
DTEND;TZID=America/Anchorage:20260110T210000
DTSTAMP:20260425T192719
CREATED:20251221T071230Z
LAST-MODIFIED:20251221T071230Z
UID:497-1768068000-1768078800@carrythecure.org
SUMMARY:Calm the Storm Concert
DESCRIPTION:Carry the Cure’s “Calm the Storm” is teaming up with the award winning Native American band\, Broken Walls\, and others in Anchorage for an unforgettable night of hope.  This is event was created to encourage all those displaced by the Typhoon Halong\, but all are invited and encouraged to come.  This will be a fun night filled with music\, gifts\, honor\, hope and God’s love.  At the end of the concert\, we will be doing a raffle.  Don’t miss this night of hope that is sure to calm the storm in any life. \nRides to and from the event will be arranged for those from W. Alaska.  Please email: cureline@carrythecure.org
URL:https://carrythecure.org/event/calm-the-storm-concert/
LOCATION:Anchorage First Assembly of God\, 1540 C St.\, Anchorage\, AK\, 99501\, United States
ORGANIZER;CN="Carry the Cure%2C Inc.":MAILTO:cureline@carrythecure.org
END:VEVENT
BEGIN:VEVENT
DTSTART;VALUE=DATE:20260109
DTEND;VALUE=DATE:20260110
DTSTAMP:20260425T192719
CREATED:20251221T072527Z
LAST-MODIFIED:20251221T072527Z
UID:506-1767916800-1768003199@carrythecure.org
SUMMARY:Committed to Life: Wendler Middle School
DESCRIPTION:Carry the Cure will share its Committed to Life school assembly with Wendler Middle School students in Anchorage\, Alaska.  This event is a private event for students and staff at Wendler Middle School.  Purpose: giving students reasons to live.  A concert event is scheduled to follow this presentation.  See Calm the Storm on our calendar.  The event: Calm the Storm will be a public concert event for families and the general public.  Carry the Cure’s Calm the Storm will be on Saturday\, Jan. 10th at 6pm.  The event is scheduled at Anchorage First Assembly. \n 
URL:https://carrythecure.org/event/committed-to-life-wendler-middle-school/
ORGANIZER;CN="Carry the Cure%2C Inc.":MAILTO:cureline@carrythecure.org
END:VEVENT
BEGIN:VEVENT
DTSTART;VALUE=DATE:20251204
DTEND;VALUE=DATE:20251208
DTSTAMP:20260425T192719
CREATED:20250920T043234Z
LAST-MODIFIED:20250920T043234Z
UID:379-1764806400-1765151999@carrythecure.org
SUMMARY:Sacred Assembly (Broken Walls)
DESCRIPTION:Niverville\, Manitoba. Details to come.
URL:https://carrythecure.org/event/sacred-assembly-broken-walls/
ATTACH;FMTTYPE=image/png:https://carrythecure.org/wp-content/uploads/Broken-Walls-Logo.png
END:VEVENT
BEGIN:VEVENT
DTSTART;TZID=America/Anchorage:20251123T100000
DTEND;TZID=America/Anchorage:20251123T123000
DTSTAMP:20260425T192719
CREATED:20251116T050931Z
LAST-MODIFIED:20251116T050931Z
UID:484-1763892000-1763901000@carrythecure.org
SUMMARY:Bridge of Hope
DESCRIPTION:I’ll be preaching a message at Bridge of Hope at 10am.
URL:https://carrythecure.org/event/bridge-of-hope/
LOCATION:Bridge of Hope Chugiak\, Ak\, 20640 Chapel Dr.\, Chugiak\, AK\, 99567\, United States
END:VEVENT
BEGIN:VEVENT
DTSTART;TZID=America/Anchorage:20251120T173000
DTEND;TZID=America/Anchorage:20251120T200000
DTSTAMP:20260425T192719
CREATED:20251116T050057Z
LAST-MODIFIED:20251116T050229Z
UID:479-1763659800-1763668800@carrythecure.org
SUMMARY:Aarigaa Meeting
DESCRIPTION:I’ll be joining CYAK for an evening of encouragement to young adults from the villages (Kipnuk\, Kwig and Napakiak) impacted by Typhoon Halong.  These meetings will help Carry the Cure to build relationships so that we can do a few large events for all those impacted by the typoon.  Tentative school assembly at East High\, CYAK/Carry the Cure night and a Broken Walls concert Dec. 4-6\, 2025.
URL:https://carrythecure.org/event/aarigaa-meeting/
END:VEVENT
BEGIN:VEVENT
DTSTART;VALUE=DATE:20251116
DTEND;VALUE=DATE:20251121
DTSTAMP:20260425T192719
CREATED:20250920T042922Z
LAST-MODIFIED:20250920T042922Z
UID:377-1763251200-1763683199@carrythecure.org
SUMMARY:Village Outreach
DESCRIPTION:Traveling to several villages in Alaska. Details to come.
URL:https://carrythecure.org/event/ctc-village-outreach-2025/
ATTACH;FMTTYPE=image/png:https://carrythecure.org/wp-content/uploads/cropped-CTC-IconSkin-e1753997046673.png
ORGANIZER;CN="Carry the Cure%2C Inc.":MAILTO:cureline@carrythecure.org
END:VEVENT
BEGIN:VEVENT
DTSTART;VALUE=DATE:20251113
DTEND;VALUE=DATE:20251114
DTSTAMP:20260425T192719
CREATED:20250920T042555Z
LAST-MODIFIED:20250920T042555Z
UID:371-1762992000-1763078399@carrythecure.org
SUMMARY:Speaking Engagement
DESCRIPTION:Bill has been invited to speak to students and faculty.
URL:https://carrythecure.org/event/speaking-ak-bible/
LOCATION:Alaska Bible College\, 248 E Elmwood Ave\, Palmer\, AK\, 99645\, United States
ATTACH;FMTTYPE=image/jpeg:https://carrythecure.org/wp-content/uploads/ABC-PhotoLogo.jpg
ORGANIZER;CN="Carry the Cure%2C Inc.":MAILTO:cureline@carrythecure.org
END:VEVENT
BEGIN:VEVENT
DTSTART;VALUE=DATE:20251027
DTEND;VALUE=DATE:20251101
DTSTAMP:20260425T192719
CREATED:20250920T005631Z
LAST-MODIFIED:20250920T013206Z
UID:365-1761523200-1761955199@carrythecure.org
SUMMARY:Israel Ministry
DESCRIPTION:In conjunction with Kanada House. Details forthcoming.
URL:https://carrythecure.org/event/israel-2025/
ATTACH;FMTTYPE=image/png:https://carrythecure.org/wp-content/uploads/Broken-Walls-Logo.png
END:VEVENT
BEGIN:VEVENT
DTSTART;TZID=America/Anchorage:20251019T103000
DTEND;TZID=America/Anchorage:20251019T123000
DTSTAMP:20260425T192719
CREATED:20250920T002709Z
LAST-MODIFIED:20250920T002709Z
UID:349-1760869800-1760877000@carrythecure.org
SUMMARY:Speaking Engagement
DESCRIPTION:Bill will be speaking during services at Regent Life Church.
URL:https://carrythecure.org/event/speak-regent-life-25/
LOCATION:Regent Life Church\, 672-A East End Road\, Homer\, AK\, 99603\, United States
ATTACH;FMTTYPE=image/jpeg:https://carrythecure.org/wp-content/uploads/RL-PhotoLogo-White.jpg
ORGANIZER;CN="Regent Life Church":MAILTO:leadership@regentlife.church
END:VEVENT
BEGIN:VEVENT
DTSTART;VALUE=DATE:20251018
DTEND;VALUE=DATE:20251022
DTSTAMP:20260425T192719
CREATED:20250919T232418Z
LAST-MODIFIED:20250919T232418Z
UID:340-1760745600-1761091199@carrythecure.org
SUMMARY:Church on the Rock Missions Conference
DESCRIPTION:4-day missions conference. Carry the Cure is one of their supported local missions.
URL:https://carrythecure.org/event/cotr-homer-missions-conference/
LOCATION:Church on the Rock Homer\, 1061 East End Rd\, Homer\, AK\, 99603\, United States
ATTACH;FMTTYPE=image/jpeg:https://carrythecure.org/wp-content/uploads/cotrhomermissions.jpg
ORGANIZER;CN="COTR Homer":MAILTO:office@cotrhomer.org
END:VEVENT
BEGIN:VEVENT
DTSTART;TZID=America/Anchorage:20251015T180000
DTEND;TZID=America/Anchorage:20251015T200000
DTSTAMP:20260425T192719
CREATED:20250919T222942Z
LAST-MODIFIED:20250919T223021Z
UID:336-1760551200-1760558400@carrythecure.org
SUMMARY:Church on the Rock Wasilla Youth Night
DESCRIPTION:Bill will be speaking at the COTR Wasilla campus youth program.
URL:https://carrythecure.org/event/cotr-wasilla-youth-night/
LOCATION:COTR Wasilla\, 3571 W Machen Dr\, Wasilla\, AK\, 99654\, United States
ATTACH;FMTTYPE=image/png:https://carrythecure.org/wp-content/uploads/logo1.png
END:VEVENT
BEGIN:VEVENT
DTSTART;VALUE=DATE:20251010
DTEND;VALUE=DATE:20251014
DTSTAMP:20260425T192719
CREATED:20250919T222346Z
LAST-MODIFIED:20250920T025211Z
UID:326-1760054400-1760399999@carrythecure.org
SUMMARY:ECHO Global Missions Conference
DESCRIPTION:This annual conference held by Church on the Rock Alaska is a yearly celebration of their supported local and global missions. They gather for four epic days\, with over 20 missionaries from around the globe\, for the purpose of; Enriching Lives – Challenging Believers – Honoring Missionaries and Opening Doors of Opportunity. Carry the Cure is one of their supported local missions.
URL:https://carrythecure.org/event/echo-global-missions-conference/
LOCATION:COTR Wasilla\, 3571 W Machen Dr\, Wasilla\, AK\, 99654\, United States
ATTACH;FMTTYPE=image/png:https://carrythecure.org/wp-content/uploads/echo-logo1.png
END:VEVENT
BEGIN:VEVENT
DTSTART;TZID=America/Anchorage:20251007T180000
DTEND;TZID=America/Anchorage:20251007T200000
DTSTAMP:20260425T192719
CREATED:20250919T203103Z
LAST-MODIFIED:20250926T014136Z
UID:316-1759860000-1759867200@carrythecure.org
SUMMARY:ONE BIG HOPE RALLY
DESCRIPTION:A night of HOPE filled with live music\, games\, raffle and other activities that culminates with an inspiring message of HOPE!
URL:https://carrythecure.org/event/one-big-hope-rally/
LOCATION:Houston High School\, 12801 W Hawk Lane\, Houston\, AK\, 99694\, United States
ATTACH;FMTTYPE=image/jpeg:https://carrythecure.org/wp-content/uploads/OBH-Rally-2025.jpg
ORGANIZER;CN="Carry the Cure%2C Inc.":MAILTO:cureline@carrythecure.org
END:VEVENT
BEGIN:VEVENT
DTSTART;VALUE=DATE:20251007
DTEND;VALUE=DATE:20251008
DTSTAMP:20260425T192719
CREATED:20250919T202438Z
LAST-MODIFIED:20250920T004828Z
UID:312-1759795200-1759881599@carrythecure.org
SUMMARY:Commit to Life Mat Su
DESCRIPTION:Carry the Cure will visit schools in the Matanuska Susitna Borough to present the Committed to Life (CTL) suicide prevention program.  These presentations will feature the award winning Native American\, Broken Walls.  These CTL events will also partner with other local youth-focused entities such as Thrive\, Young Life and other organizations.
URL:https://carrythecure.org/event/ctl-2025-hhs/
LOCATION:Houston High School\, 12801 W Hawk Lane\, Houston\, AK\, 99694\, United States
ATTACH;FMTTYPE=image/png:https://carrythecure.org/wp-content/uploads/Screenshot-2025-09-05-at-10.30.27-PM.png
ORGANIZER;CN="Carry the Cure%2C Inc.":MAILTO:cureline@carrythecure.org
END:VEVENT
BEGIN:VEVENT
DTSTART;TZID=America/Anchorage:20251004T180000
DTEND;TZID=America/Anchorage:20251004T200000
DTSTAMP:20260425T192719
CREATED:20250919T203945Z
LAST-MODIFIED:20250926T052156Z
UID:319-1759600800-1759608000@carrythecure.org
SUMMARY:ONE BIG HOPE RALLY
DESCRIPTION:A night of HOPE filled with live music\, games\, raffle and other activities that culminates with an inspiring message of HOPE!
URL:https://carrythecure.org/event/obh-rally-palmer/
LOCATION:Lazy Mountain Bible Church\, 16005 Shawn Dr.\, Palmer\, AK\, 99645\, United States
ATTACH;FMTTYPE=image/jpeg:https://carrythecure.org/wp-content/uploads/OBH-Rally-2025.jpg
ORGANIZER;CN="Carry the Cure%2C Inc.":MAILTO:cureline@carrythecure.org
END:VEVENT
BEGIN:VEVENT
DTSTART;VALUE=DATE:20251003
DTEND;VALUE=DATE:20251004
DTSTAMP:20260425T192719
CREATED:20250919T201823Z
LAST-MODIFIED:20250920T004721Z
UID:306-1759449600-1759535999@carrythecure.org
SUMMARY:Commit to Life Mat Su
DESCRIPTION:Carry the Cure will visit schools in the Matanuska Susitna Borough to present the Committed to Life (CTL) suicide prevention program.  These presentations will feature the award winning Native American\, Broken Walls.  These CTL events will also partner with other local youth-focused entities such as Thrive\, Young Life and other organizations.
URL:https://carrythecure.org/event/ctl-2025-pjms/
LOCATION:Palmer Jr Middle School\, 1159 S Chugach\, Palmer\, AK\, 99645\, United States
ATTACH;FMTTYPE=image/png:https://carrythecure.org/wp-content/uploads/Screenshot-2025-09-05-at-10.30.27-PM.png
ORGANIZER;CN="Carry the Cure%2C Inc.":MAILTO:cureline@carrythecure.org
END:VEVENT
BEGIN:VEVENT
DTSTART;VALUE=DATE:20251002
DTEND;VALUE=DATE:20251003
DTSTAMP:20260425T192719
CREATED:20250919T200924Z
LAST-MODIFIED:20250919T200924Z
UID:296-1759363200-1759449599@carrythecure.org
SUMMARY:Commit to Life Mat Su
DESCRIPTION:Carry the Cure will visit schools in the Matanuska Susitna Borough to present the Committed to Life (CTL) suicide prevention program.  These presentations will feature the award winning Native American\, Broken Walls.  These CTL events will also partner with other local youth-focused entities such as Thrive\, Young Life and other organizations.
URL:https://carrythecure.org/event/ctl-2025-wms/
LOCATION:Wasilla Middle School\, 650 Bogard Rd.\, Wasilla\, AK\, 99654\, United States
ATTACH;FMTTYPE=image/png:https://carrythecure.org/wp-content/uploads/Screenshot-2025-09-05-at-10.30.27-PM.png
ORGANIZER;CN="Carry the Cure%2C Inc.":MAILTO:cureline@carrythecure.org
END:VEVENT
BEGIN:VEVENT
DTSTART;VALUE=DATE:20250928
DTEND;VALUE=DATE:20251001
DTSTAMP:20260425T192719
CREATED:20250919T191437Z
LAST-MODIFIED:20250920T005234Z
UID:284-1759017600-1759276799@carrythecure.org
SUMMARY:CTC / Broken Walls Event
DESCRIPTION:Bill is speaking and playing drums with Broken Walls at a Youth Alive city-wide youth event.  Bill will also be presenting Committed to Life activies.  Bill will join with Jonathan Maracle for a Sacred Assembly gathering in Niverville\, MB on September 30th.
URL:https://carrythecure.org/event/ctc-winnipeg-2025/
LOCATION:Inner City Youth Alive\, 418 Aberdeen Ave\, Winnipeg\, Manitoba\, R2W 1V7\, Canada
ATTACH;FMTTYPE=image/png:https://carrythecure.org/wp-content/uploads/Broken-Walls-Logo.png
END:VEVENT
BEGIN:VEVENT
DTSTART;TZID=America/Anchorage:20250801T080000
DTEND;TZID=America/Anchorage:20250801T170000
DTSTAMP:20260425T192719
CREATED:20250731T224011Z
LAST-MODIFIED:20250731T225525Z
UID:161-1754035200-1754067600@carrythecure.org
SUMMARY:Fairway to Heaven Benefit Golf Tournament
DESCRIPTION:Benefitting Carry the Cure
URL:https://carrythecure.org/event/fairway-to-heaven-benefit-golf-tournament/
LOCATION:Settler’s Bay Golf Course\, 7307 South Frontier Drive\, Wasilla\, AK\, 99623\, United States
ATTACH;FMTTYPE=image/png:https://carrythecure.org/wp-content/uploads/FTHlogo-sm.png
END:VEVENT
BEGIN:VEVENT
DTSTART;VALUE=DATE:20250717
DTEND;VALUE=DATE:20250721
DTSTAMP:20260425T192719
CREATED:20250731T215012Z
LAST-MODIFIED:20250731T222846Z
UID:149-1752710400-1753055999@carrythecure.org
SUMMARY:Master Arrow
DESCRIPTION:Bill will potentially be a speaker at this event.
URL:https://carrythecure.org/event/master-arrow/
END:VEVENT
END:VCALENDAR