BEGIN:VCALENDAR
VERSION:2.0
PRODID:-//Carry the Cure, Inc. - ECPv6.15.20//NONSGML v1.0//EN
CALSCALE:GREGORIAN
METHOD:PUBLISH
X-WR-CALNAME:Carry the Cure, Inc.
X-ORIGINAL-URL:https://carrythecure.org
X-WR-CALDESC:Events for Carry the Cure, Inc.
REFRESH-INTERVAL;VALUE=DURATION:PT1H
X-Robots-Tag:noindex
X-PUBLISHED-TTL:PT1H
BEGIN:VTIMEZONE
TZID:America/Anchorage
BEGIN:DAYLIGHT
TZOFFSETFROM:-0900
TZOFFSETTO:-0800
TZNAME:AKDT
DTSTART:20250309T110000
END:DAYLIGHT
BEGIN:STANDARD
TZOFFSETFROM:-0800
TZOFFSETTO:-0900
TZNAME:AKST
DTSTART:20251102T100000
END:STANDARD
BEGIN:DAYLIGHT
TZOFFSETFROM:-0900
TZOFFSETTO:-0800
TZNAME:AKDT
DTSTART:20260308T110000
END:DAYLIGHT
BEGIN:STANDARD
TZOFFSETFROM:-0800
TZOFFSETTO:-0900
TZNAME:AKST
DTSTART:20261101T100000
END:STANDARD
BEGIN:DAYLIGHT
TZOFFSETFROM:-0900
TZOFFSETTO:-0800
TZNAME:AKDT
DTSTART:20270314T110000
END:DAYLIGHT
BEGIN:STANDARD
TZOFFSETFROM:-0800
TZOFFSETTO:-0900
TZNAME:AKST
DTSTART:20271107T100000
END:STANDARD
END:VTIMEZONE
BEGIN:VEVENT
DTSTART;VALUE=DATE:20260426
DTEND;VALUE=DATE:20260531
DTSTAMP:20260425T191050
CREATED:20260419T214842Z
LAST-MODIFIED:20260419T214842Z
UID:600-1777161600-1780185599@carrythecure.org
SUMMARY:CTC Iditarod and 1 Big Hope Nights
DESCRIPTION:Carry the Cure will be scheduling 3 events between April and May to brag on what Jesus did on this year’s Iditarod Outreach.  We will also be sharing the dream of CTC’s 1 Big Hope House and Tour.  More Information coming soon!
URL:https://carrythecure.org/event/ctc-iditarod-and-1-big-hope-nights/
ORGANIZER;CN="Carry the Cure%2C Inc.":MAILTO:cureline@carrythecure.org
END:VEVENT
BEGIN:VEVENT
DTSTART;VALUE=DATE:20260427
DTEND;VALUE=DATE:20260428
DTSTAMP:20260425T191050
CREATED:20260419T210250Z
LAST-MODIFIED:20260419T214507Z
UID:568-1777248000-1777334399@carrythecure.org
SUMMARY:ACF Church Conference
DESCRIPTION:Bill will be opening the conference on the drum along with Sarah Harney.  Start time is after 5pm dinner.
URL:https://carrythecure.org/event/acf-church-conference/
END:VEVENT
BEGIN:VEVENT
DTSTART;TZID=America/Anchorage:20260503T090000
DTEND;TZID=America/Anchorage:20260503T130000
DTSTAMP:20260425T191050
CREATED:20260419T211334Z
LAST-MODIFIED:20260419T211334Z
UID:575-1777798800-1777813200@carrythecure.org
SUMMARY:COTR Palmer
DESCRIPTION:Bill will be drumming at both services 9am and 11am
URL:https://carrythecure.org/event/cotr-palmer/
LOCATION:Church on the Rock Palmer\, 619 Scott Rd.\, Palmer\, AK\, 99645\, United States
ORGANIZER;CN="Carry the Cure%2C Inc.":MAILTO:cureline@carrythecure.org
END:VEVENT
BEGIN:VEVENT
DTSTART;VALUE=DATE:20260517
DTEND;VALUE=DATE:20260518
DTSTAMP:20260425T191050
CREATED:20260419T214216Z
LAST-MODIFIED:20260419T214216Z
UID:596-1778976000-1779062399@carrythecure.org
SUMMARY:Impact Alaska - Help make the way...
DESCRIPTION:Church on the Rock and community members will be preparing the Carry the Cure lot for CTC’s Hope House.  Come volunteer and help us as we help others.  visit www.churchak.org \n  \n 
URL:https://carrythecure.org/event/impact-alaska-help-make-the-way/
LOCATION:Carry the Cure\, Inc.\, 1040 W. Beylund Loop\, Palmer\, AK\, 99645\, United States
END:VEVENT
BEGIN:VEVENT
DTSTART;TZID=America/Anchorage:20260522T190000
DTEND;TZID=America/Anchorage:20260522T210000
DTSTAMP:20260425T191050
CREATED:20260419T211751Z
LAST-MODIFIED:20260419T211751Z
UID:579-1779476400-1779483600@carrythecure.org
SUMMARY:Burchell High School Graduation @ Curtis Menard Center
DESCRIPTION:Bill will be the keynote speaker at the graduation ceremony.
URL:https://carrythecure.org/event/burchell-high-school-graduation-curtis-menard-center/
LOCATION:Curtis Menard Center\, 1001 S Clapp St\, Wasilla\, AK\, 99654\, United States
ORGANIZER;CN="Carry the Cure%2C Inc.":MAILTO:cureline@carrythecure.org
END:VEVENT
BEGIN:VEVENT
DTSTART;VALUE=DATE:20260531
DTEND;VALUE=DATE:20260601
DTSTAMP:20260425T191050
CREATED:20260419T213805Z
LAST-MODIFIED:20260419T213805Z
UID:589-1780185600-1780271999@carrythecure.org
SUMMARY:Fairway to Heaven AK Golf Tournament
DESCRIPTION:Fairway to Heaven AK Golf Tournament is a fun way to raise funds for missions in Alaska.  This year\, Carry the Cure will be the beneficiary of the tournament.  There are prizes and incentives for golfers.  Check it out and Go Foreth Alaska! https://fairwaytoheavenak.org \n 
URL:https://carrythecure.org/event/fairway-to-heaven-ak-golf-tournament/
LOCATION:Settlers Bay Golf Course\, 7307 S Frontier Dr.\, Wasilla\, AK\, 99623\, United States
END:VEVENT
BEGIN:VEVENT
DTSTART;VALUE=DATE:20260621
DTEND;VALUE=DATE:20260825
DTSTAMP:20260425T191050
CREATED:20260419T212650Z
LAST-MODIFIED:20260419T212650Z
UID:583-1782000000-1787615999@carrythecure.org
SUMMARY:1 Big Hope Tour
DESCRIPTION:CTC will present its Committed to Life program in 10 Communities in Alaska this summer in its effort to raise $500\,000 for CTC’s 1 Big Hope House.  This will be a training and equpping center located in Palmer\, Alaska.  Stay tuned for more information AND visit our YouTube Channel: 1 Big Hope where you can follow the tour as we continue the dream to share HOPE in every town\, city and village in Alaska.  1 Big Hope Channel: https://youtube.com/@bill1hope?si=FudSDmTklv7OVJx- \nAll donations will be tracked and published daily until we reach our goal of $500\,000.  Donate through Carry the Cure at www.carrythecure.org
URL:https://carrythecure.org/event/1-big-hope-tour/
LOCATION:Alaska
ORGANIZER;CN="Carry the Cure%2C Inc.":MAILTO:cureline@carrythecure.org
END:VEVENT
END:VCALENDAR