BEGIN:VCALENDAR
VERSION:2.0
PRODID:-//Carry the Cure, Inc. - ECPv6.15.20//NONSGML v1.0//EN
CALSCALE:GREGORIAN
METHOD:PUBLISH
X-ORIGINAL-URL:https://carrythecure.org
X-WR-CALDESC:Events for Carry the Cure, Inc.
REFRESH-INTERVAL;VALUE=DURATION:PT1H
X-Robots-Tag:noindex
X-PUBLISHED-TTL:PT1H
BEGIN:VTIMEZONE
TZID:America/Anchorage
BEGIN:DAYLIGHT
TZOFFSETFROM:-0900
TZOFFSETTO:-0800
TZNAME:AKDT
DTSTART:20250309T110000
END:DAYLIGHT
BEGIN:STANDARD
TZOFFSETFROM:-0800
TZOFFSETTO:-0900
TZNAME:AKST
DTSTART:20251102T100000
END:STANDARD
BEGIN:DAYLIGHT
TZOFFSETFROM:-0900
TZOFFSETTO:-0800
TZNAME:AKDT
DTSTART:20260308T110000
END:DAYLIGHT
BEGIN:STANDARD
TZOFFSETFROM:-0800
TZOFFSETTO:-0900
TZNAME:AKST
DTSTART:20261101T100000
END:STANDARD
BEGIN:DAYLIGHT
TZOFFSETFROM:-0900
TZOFFSETTO:-0800
TZNAME:AKDT
DTSTART:20270314T110000
END:DAYLIGHT
BEGIN:STANDARD
TZOFFSETFROM:-0800
TZOFFSETTO:-0900
TZNAME:AKST
DTSTART:20271107T100000
END:STANDARD
END:VTIMEZONE
BEGIN:VEVENT
DTSTART;VALUE=DATE:20260223
DTEND;VALUE=DATE:20260228
DTSTAMP:20260425T191752
CREATED:20251116T052059Z
LAST-MODIFIED:20260213T062850Z
UID:495-1771804800-1772236799@carrythecure.org
SUMMARY:Commit to Life Mat Su: Phase 2
DESCRIPTION:Carry the Cure will be visiting 5 schools in the Mat Su Borough to present its Committed to Life suicide prevention school assembly.  These presentations will feature the award winning Native American band\, Broken Walls.  Monday – Job Corps  Tuesday – King’s Wasilla / Mat Su Central  Wednesday- Houston Middle School  Thursday- Burchell High School  Friday – Career Tech High School
URL:https://carrythecure.org/event/commit-to-life-mat-su-phase-2/
ATTACH;FMTTYPE=image/jpeg:https://carrythecure.org/wp-content/uploads/CTCs-Commit-to-Life-Mat-Su-Schedule-3.jpg
END:VEVENT
BEGIN:VEVENT
DTSTART;TZID=America/Anchorage:20260228T170000
DTEND;TZID=America/Anchorage:20260228T210000
DTSTAMP:20260425T191752
CREATED:20260213T060715Z
LAST-MODIFIED:20260213T062437Z
UID:511-1772298000-1772312400@carrythecure.org
SUMMARY:One Big Hope Concert
DESCRIPTION:This concert event will feature The Eskimo Ninja (Nick Hanson)\, Beckah Shae and Broken Walls.  5pm – 9pm at Summit Worship Center in Wasilla\, AK.
URL:https://carrythecure.org/event/one-big-hope-concert/
LOCATION:Summit Worship Center\, 125 W Riley Ave\, Wasilla\, 99654\, United States
ATTACH;FMTTYPE=image/jpeg:https://carrythecure.org/wp-content/uploads/OBH-Rally-Flyer-2026-02-SOCIAL-2.jpg
ORGANIZER;CN="Carry the Cure%2C Inc.":MAILTO:cureline@carrythecure.org
END:VEVENT
END:VCALENDAR